BEGIN:VCALENDAR
VERSION:2.0
PRODID:-//ChamberMaster//Event Calendar 2.0//EN
METHOD:PUBLISH
X-PUBLISHED-TTL:P1H
REFRESH-INTERVAL:P1H
CALSCALE:GREGORIAN
BEGIN:VTIMEZONE
TZID:America/New_York
BEGIN:DAYLIGHT
RRULE:FREQ=YEARLY;BYMONTH=3;BYDAY=2SU
DTSTART:20070101T000000
TZOFFSETFROM:-0500
TZOFFSETTO:-0400
TZNAME:Eastern Daylight Time
END:DAYLIGHT
BEGIN:STANDARD
RRULE:FREQ=YEARLY;BYMONTH=11;BYDAY=1SU
DTSTART:20070101T000000
TZOFFSETFROM:-0400
TZOFFSETTO:-0500
TZNAME:Eastern Standard Time
END:STANDARD
END:VTIMEZONE
BEGIN:VEVENT
DTSTART;TZID=America/New_York:20260619T090000
DTEND;TZID=America/New_York:20260619T140000
X-MICROSOFT-CDO-ALLDAYEVENT:FALSE
SUMMARY:Pine Mountain PARtnership Golf Outing
DESCRIPTION:Register here: https://events.golfstatus.com/event/2026-pine-mountain-partnership-golf-tournamentPine Mountain Partnership began as an initiative of the private non-profit EKY Heritage Foundation. Created to serve the Tourism & Economic Development needs of Southeastern KY\, we work closely with current elected officials to advocate on behalf of the business community and industrial prospects to win new business and grow existing businesses. As the initiative grew PMP incorporated as a 501(c)6 and became the Chamber of Commerce serving Letcher County\, KY. Your support makes this growth possible.
X-ALT-DESC;FMTTYPE=text/html:<!DOCTYPE html><html><head><title></title></head><body aria-disabled="false"><p><strong fr-original-style="" style="font-weight: 700\;">Register here:</strong> <a fr-original-style="" href="https://events.golfstatus.com/event/2026-pine-mountain-partnership-golf-tournament" style="-webkit-user-select: auto\;">https://events.golfstatus.com/event/2026-pine-mountain-partnership-golf-tournament</a></p><p>Pine Mountain Partnership began as an initiative of the private non-profit EKY Heritage Foundation. Created to serve the Tourism &amp\; Economic Development needs of Southeastern KY\, we work closely with current elected officials to advocate on behalf of the business community and industrial prospects to win new business and grow existing businesses.&nbsp\;</p><p>As the initiative grew PMP incorporated as a 501(c)6 and became the Chamber of Commerce serving Letcher County\, KY. Your support makes this growth possible.</p></body></html>
LOCATION:586 Golf Course Lane Jenkins KY 41537
UID:e.3635.1449825
SEQUENCE:3
DTSTAMP:20260424T123403Z
URL:https://members.pmp-ky.com/pmp-calendar/Details/pine-mountain-partnership-golf-outing-1717295?sourceTypeId=Hub
END:VEVENT
END:VCALENDAR
