BEGIN:VCALENDAR
VERSION:2.0
PRODID:-//ChamberMaster//Event Calendar 2.0//EN
METHOD:PUBLISH
X-PUBLISHED-TTL:P1H
REFRESH-INTERVAL:P1H
CALSCALE:GREGORIAN
BEGIN:VTIMEZONE
TZID:America/New_York
BEGIN:DAYLIGHT
RRULE:FREQ=YEARLY;BYMONTH=3;BYDAY=2SU
DTSTART:20070101T000000
TZOFFSETFROM:-0500
TZOFFSETTO:-0400
TZNAME:Eastern Daylight Time
END:DAYLIGHT
BEGIN:STANDARD
RRULE:FREQ=YEARLY;BYMONTH=11;BYDAY=1SU
DTSTART:20070101T000000
TZOFFSETFROM:-0400
TZOFFSETTO:-0500
TZNAME:Eastern Standard Time
END:STANDARD
END:VTIMEZONE
BEGIN:VEVENT
DTSTART;TZID=America/New_York:20260430T120000
DTEND;TZID=America/New_York:20260430T130000
X-MICROSOFT-CDO-ALLDAYEVENT:FALSE
SUMMARY:Lunch & Learn with SmileFaith Appalachia - Shining Stars Daycare
DESCRIPTION:Hear from SmileFaith Appalachia's Executive Director - Chrystal Bentley about their brand new Daycare! A giant barrier to workforce participation is childcare\; Shining Stars has an affordable option for Daycare that can help get our folks back to work.
X-ALT-DESC;FMTTYPE=text/html:<!DOCTYPE html><html><head><title></title></head><body aria-disabled="false"><p><span style="font-size: 24px\;">Hear from SmileFaith Appalachia&#39\;s Executive Director - Chrystal Bentley about their brand new Daycare!&nbsp\;</span></p><p><span style="font-size: 24px\;">A giant barrier to workforce participation is childcare\; Shining Stars has an affordable option for Daycare that can help get our folks back to work.</span></p></body></html>
LOCATION:499 Jenkins Rd Whitesburg KY 41858
UID:e.3635.1443618
SEQUENCE:3
DTSTAMP:20260424T123256Z
URL:https://members.pmp-ky.com/pmp-calendar/Details/lunch-learn-with-smilefaith-appalachia-shining-stars-daycare-1709847?sourceTypeId=Hub
END:VEVENT
END:VCALENDAR
